BEGIN:VCALENDAR
VERSION:2.0
CALSCALE:GREGORIAN
PRODID:-//Diputació de Barcelona//DibaCMS//EN
BEGIN:VEVENT
UID:521
DTSTAMP:20260421T094006
DTSTART:20170719T203000
DTEND:20170725T233000
SUMMARY:Festa Major 2017
LOCATION:
METHOD:PUBLISH
X-WR-CALNAME:info@smbalenya.cat
X-WR-TIMEZONE:Europe/Madrid
DESCRIPTION:Programa de la Festa Major de Sant Miquel de Balenyà.

URI:https://www.smbalenya.cat/actualitat/agenda/festa-major-2017.html
CLASS:PUBLIC
END:VEVENT
END:VCALENDAR
