BEGIN:VCALENDAR
VERSION:2.0
CALSCALE:GREGORIAN
PRODID:-//Diputació de Barcelona//DibaCMS//EN
BEGIN:VEVENT
UID:1969
DTSTAMP:20260423T075100
DTSTART:20240420T100000
DTEND:20240420T100000
SUMMARY:European Clean Up Day
LOCATION:
METHOD:PUBLISH
X-WR-CALNAME:info@smbalenya.cat
X-WR-TIMEZONE:Europe/Madrid
DESCRIPTION:
URI:https://www.smbalenya.cat/actualitat/agenda/european-clean-up-day.html
CLASS:PUBLIC
END:VEVENT
END:VCALENDAR
