BEGIN:VCALENDAR
VERSION:2.0
CALSCALE:GREGORIAN
PRODID:-//Diputació de Barcelona//DibaCMS//EN
BEGIN:VEVENT
UID:1576
DTSTAMP:20260425T150530
DTSTART:20220713T090000
DTEND:20220713T090000
SUMMARY:'Mou-te a l'estiu' per majors de 60 anys
LOCATION:
METHOD:PUBLISH
X-WR-CALNAME:info@smbalenya.cat
X-WR-TIMEZONE:Europe/Madrid
DESCRIPTION:Inscripcions al 93 812 54 45 fins 3 dies abans de cada activitat.

URI:https://www.smbalenya.cat/actualitat/agenda/1576-mou-te-a-lestiu-per-majors-de-60-anys.html
CLASS:PUBLIC
END:VEVENT
END:VCALENDAR
