BEGIN:VCALENDAR
VERSION:2.0
CALSCALE:GREGORIAN
PRODID:-//Diputació de Barcelona//DibaCMS//EN
BEGIN:VEVENT
UID:1323
DTSTAMP:20260424T160651
DTSTART:20210608T000000
DTEND:20220608T000000
SUMMARY:Servei d’assessorament a persones emprenedores
LOCATION:
METHOD:PUBLISH
X-WR-CALNAME:info@smbalenya.cat
X-WR-TIMEZONE:Europe/Madrid
DESCRIPTION:Des de fa uns anys que la Mancomunitat La Plana i els Ajuntaments que en formen part van apostar per donar un servei d’atenció a les persones emprenedores dels municipis mancomunats.

URI:https://www.smbalenya.cat/actualitat/noticies/servei-dassessorament-a-persones-emprenedores.html
CLASS:PUBLIC
END:VEVENT
END:VCALENDAR
